Workbook
Name __xlnm.Print_Area_1: #REF!
Name __xlnm.Print_Area_1: #REF!
Name __xlnm.Print_Area_1: #REF!
Name __xlnm.Print_Area_1: #REF!
Name __xlnm.Print_Area_1: #REF!
Name __xlnm.Print_Area_1: #REF!
Name _1Excel_BuiltIn_Print_Area_1_1: #REF!
Name _1Excel_BuiltIn_Print_Area_1_1: #REF!
Name _1Excel_BuiltIn_Print_Area_1_1: #REF!
Name _1Excel_BuiltIn_Print_Area_1_1: #REF!
Name _1Excel_BuiltIn_Print_Area_1_1: #REF!
Name _1Excel_BuiltIn_Print_Area_1_1: #REF!
Name 業種区分１: '[1]様式13 関連データ（削除、修正不可）'!$J$2:$O$2

Sheet 変更届
A1: 資格審査申請書記載事項変更届 | FA1: 本店・本社の商号又は名称
AD2: 申請年月日 | FA2: 本店・本社の住所
A3: 水俣市長 様 | FA3: 本店・本社の代表者
FA4: 本店・本社の代表者の職名
A5: 業者番号 | FA5: 本店・本社の電話番号
A6: 郵便番号 | I6: 〒 | P6: － | FA6: 本店・本社のＦＡＸ番号
A7: 住所 | FA7: 委任先の支店、営業所等の名称
A8: 商号又は名称 | AO8: 印 | FA8: 委任先の住所
A9: 代表者役職名 | BA9: ←印必須 | FA9: 委任先の電話番号
A10: 代表者氏名 | FA10: 委任先のＦＡＸ番号
FA11: 委任先の代表者
A12: 令和 年 月 日付けをもって提出しました資格審査申請書及び添付書類の記載事項について、 | FA12: 委任先の代表者の職名
A13: 下記のとおり変更いたしましたのでお届けします。 | FA13: 委任先の追加
A14: 記 | FA14: 委任先の取消
A15: 変更事項 | N15: 変更前 | AA15: 変更後 | AN15: 附記 | FA15: 希望する営業種目（物品）の追加
A16: （例）本店・本社の代表者※氏名のﾌﾘｶﾞﾅは必須 | N16: ﾔﾏﾀﾞ ﾀﾛｳ 山田 太郎 | AA16: ﾔﾏﾀﾞ ﾊﾅｺ 山田 花子 | AN16: 令和8年10月1日付けで代表者変更 | BA16: ←必要に応じて、行の幅を調整してください | FA16: 希望する営業種目（物品）の取消
BA17: ←必要に応じて、行の幅を調整してください | FA17: 希望する営業種目（業務委託）の追加
BA18: ←必要に応じて、行の幅を調整してください | FA18: 希望する営業種目（業務委託）の取消
BA19: ←必要に応じて、行の幅を調整してください | FA19: 資本関係（親会社）
BA20: ←必要に応じて、行の幅を調整してください | FA20: 資本関係（子会社）
BA21: ←必要に応じて、行の幅を調整してください | FA21: 役員兼任状況
BA22: ←必要に応じて、行の幅を調整してください | FA22: 使用印鑑
BA23: ←必要に応じて、行の幅を調整してください | FA23: 水俣市内に本店・本社を初めて設置
BA24: ←必要に応じて、行の幅を調整してください | FA24: 水俣市内の支店、営業所等に初めて委任
BA25: ←必要に応じて、行の幅を調整してください | FA25: 法人組織の再編成（合併）
BA26: ←必要に応じて、行の幅を調整してください | FA26: 法人組織の再編成（分割）
BA27: ←必要に応じて、行の幅を調整してください | FA27: 法人組織の再編成（事業譲渡）
BA28: ←必要に応じて、行の幅を調整してください | FA28: 資格取下げ（廃業）
... BA30: ←必要に応じて、行の幅を調整してください | FA30: その他（ ）
BA31: ←必要に応じて、行の幅を調整してください
BA32: ←必要に応じて、行の幅を調整してください
BA33: ←必要に応じて、行の幅を調整してください
BA34: ←必要に応じて、行の幅を調整してください
BA35: ←必要に応じて、行の幅を調整してください
BA36: ←必要に応じて、行の幅を調整してください
BA37: ←必要に応じて、行の幅を調整してください
BA38: ←必要に応じて、行の幅を調整してください

Sheet 様1⑤ 希望する営業種目_物品
V1: 業者番号 | AD1: =IF(変更届!I5="","",変更届!I5)
V2: 商号又は名称 | AD2: =IF(変更届!I8="","",変更届!I8)
A3: （様式１）
A4: 年間売上実績 （前年度決算） ［単位：千円］ | K4: 第１分類 | W4: 第２分類 | AI4: 内容 | AW4: 希望 業種
I5: 分類番号 | U5: 分類番号 | AG5: 内容番号
A7: ⑤ 希望する営業種目 【 物品の製造・修理・購入 】
I8: 1 | K8: 印刷類 | U8: 1 | W8: 印刷 | AG8: 1 | AI8: オフセット印刷
AG9: 2 | AI9: フォーム印刷
U10: 2 | W10: その他印刷類 | AG10: 3
I11: 2 | K11: 被服類 | U11: 1 | W11: 衣料、旗、染物 | AG11: 1 | AI11: 作業服
AG12: 2 | AI12: のぼり旗
AG13: 3 | AI13: 消防作業服
AG14: 4 | AI14: その他（
U15: 2 | W15: その他被服類 | AG15: 1
I16: 3 | K16: 事務用消耗品 | U16: 1 | W16: 紙、文具、事務用機器 | AG16: 1 | AI16: コピー用紙
AG17: 2 | AI17: 文房具
AG18: 3 | AI18: 電卓
AG19: 4 | AI19: その他（
U20: 2 | W20: その他事務用消耗品 | AG20: 1
I21: 4 | K21: ＯＡ機器類 | U21: 1 | W21: パソコン、プリンタ、ソフトウェア類 | AG21: 1 | AI21: パソコン
AG22: 2 | AI22: プリンタ
AG23: 3 | AI23: ソフトウェア
AG24: 4 | AI24: その他（
U25: 2 | W25: 複写機、印刷機 | AG25: 1 | AI25: 複写機
AG26: 2 | AI26: 印刷機
U27: 3 | W27: その他ＯＡ機器類 | AG27: 1
I28: 5 | K28: 教材類 | U28: 1 | W28: 体育用品、器具、理科機器 | AG28: 1 | AI28: 教材
AG29: 2 | AI29: 図書
AG30: 3 | AI30: 運動器具
AG31: 4 | AI31: 顕微鏡
AG32: 5 | AI32: その他（
U33: 2 | W33: その他教材類 | AG33: 1
I34: 6 | K34: 消防、防災用品 | U34: 1 | W34: 消防自動車 | AG34: 1 | AI34: 消防自動車
U35: 2 | W35: ポンプ、ホース、消火器類 | AG35: 1 | AI35: 動力ポンプ
AG36: 2 | AI36: ホース
AG37: 3 | AI37: 消火器
AG38: 4 | AI38: その他（
U39: 3 | W39: その他消防、防災用品 | AG39: 1
I40: 7 | K40: 機械、器具類 | U40: 1 | W40: 厨房機器、厨房設備 | AG40: 1 | AI40: 調理台
AG41: 2 | AI41: 消毒保管庫
...

Sheet 様1⑥ 希望する営業種目_業務
V1: 業者番号 | AD1: =IF(変更届!I5="","",変更届!I5)
V2: 商号又は名称 | AD2: =IF(変更届!I8="","",変更届!I8)
A3: （様式１）
A4: 年間売上実績 （前年度決算） ［単位：千円］ | K4: 第１分類 | W4: 第２分類 | AI4: 内容 | AW4: 希望 業種
I5: 分類番号 | U5: 分類番号 | AG5: 内容番号
A7: ⑥ 希望する営業種目 【 業務委託等 】
I8: 13 | K8: 庁舎等管理業務 | U8: 1 | W8: 清掃 | AG8: 1 | AI8: 庁舎等の清掃
U9: 2 | W9: 衛生管理 | AG9: 1 | AI9: 環境測定（温湿度、空気、照度等）
AG10: 2 | AI10: 害虫等駆除
AG11: 3 | AI11: 飲料水の水質検査
AG12: 4 | AI12: 貯水槽清掃
AG13: 5 | AI13: 排水管清掃
AG14: 6 | AI14: 空調用ダクト清掃
AG15: 7 | AI15: 環境衛生総合管理
AG16: 8 | AI16: その他（
U17: 3 | W17: その他庁舎等管理業務 | AG17: 1
I18: 14 | K18: 警備業務 | U18: 1 | W18: 機械警備 | AG18: 1 | AI18: 機器による庁舎等の施設の警備
AG19: 2 | AI19: その他（
U20: 2 | W20: 人的警備 | AG20: 1 | AI20: イベント会場等の人的警備
AG21: 2 | AI21: その他（
U22: 3 | W22: その他警備業務 | AG22: 1
I23: 15 | K23: 建築設備等保守点検業務 | U23: 1 | W23: 浄化槽保守点検 | AG23: 1 | AI23: 浄化槽法に基づく保守点検
U24: 2 | W24: 消防用設備保守点検 | AG24: 1 | AI24: 消火設備保守点検
AG25: 2 | AI25: 警報装置保守点検
AG26: 3 | AI26: 避難設備保守点検
AG27: 4 | AI27: その他（
U28: 3 | W28: 空調設備保守点検 | AG28: 1 | AI28: 空調設備保守点検
U29: 4 | W29: エレベーター等保守点検 | AG29: 1 | AI29: エレベーター保守点検
AG30: 2 | AI30: 自動ドア保守点検
U31: 5 | W31: 自家用電気工作物等保守点検 | AG31: 1 | AI31: 自家用電気工作物保守点検
AG32: 2 | AI32: 受変電設備保守点検
U33: 6 | W33: 防災通信施設保守点検 | AG33: 1 | AI33: 防災通信施設保守点検
U34: 7 | W34: 温泉用ポンプ保守点検 | AG34: 1 | AI34: 温泉用ポンプ保守点検
U35: 8 | W35: 量水器取替 | AG35: 1 | AI35: 量水器取替
AG36: 2 | AI36: その他（
U37: 9 | W37: 橋梁点検 | AG37: 1 | AI37: 橋梁点検
U38: 10 | W38: 橋梁設計（新設） | AG38: 1 | AI38: 橋梁設計（新設）
U39: 11 | W39: 橋梁設計（補修） | AG39: 1 | AI39: 橋梁設計（補修）
U40: 12 | W40: その他建築設備等保守点検業務 | AG40: 1
I41: 16 | K41: 公園等管理業務 | U41: 1 | W41: 除草作業 | AG41: 1 | AI41: 公園の除草作業
...

Sheet 様3　許認可・免許資格
V1: 業者番号 | AD1: =IF(変更届!I5="","",変更届!I5) | BC1: 第１分類 | BE1: 第２分類 | BH1: 第１分類 | BJ1: 第２分類
V2: 商号又は名称 | AD2: =IF(変更届!I8="","",変更届!I8) | BB2: 分類番号 | BD2: 分類番号 | BG2: 分類番号 | BI2: 分類番号
A3: （様式３）
A4: 許認可・免許資格一覧表 | BB4: 1 | BC4: 印刷類 | BD4: 1 | BE4: 印刷 | BG4: 13 | BH4: 庁舎等管理業務 | BI4: 1 | BJ4: 清掃
AD5: 申請年月日 | AL5: =IF(変更届!AL2="","",変更届!AL2) | BI5: 2 | BJ5: 衛生管理
BD6: 2 | BE6: その他印刷類
A7: 入札参加資格申請書の「希望する営業種目［物品の製造・修理・購入］［業務委託等］」について、 | BB7: 2 | BC7: 被服類 | BD7: 1 | BE7: 衣料、旗、染物
A8: 許認可、免許資格を記入し、許認可証（写し可）、免許資格証（写し可）を添付してください。
A9: 許認可証を提出する場合、添付欄には「有」と記入してください。
A10: 免許資格証については、免許資格取得者の人数を記入し、全員分の免許資格証（写し可）を提出して
A11: ください。同じ免許資格取得者が１１名以上となる場合、代表する１０名分を提出してください。 | BD11: 2 | BE11: その他被服類
A12: 許認可関係 | BB12: 3 | BC12: 事務用消耗品 | BD12: 1 | BE12: 紙、文具、事務用機器
A13: 第1分類番号 | D13: 第2分類番号 | G13: 許認可等の種類 | S13: 許認可等番号 | AA13: 有効期間 | AM13: 許認可等官公庁名 | AW13: 添付 | BI13: 3 | BJ13: その他庁舎等管理業務
AA14: 始 | AG14: 終 | BG14: 14 | BH14: 警備業務 | BI14: 1 | BJ14: 機械設備
BD16: 2 | BE16: その他事務用消耗品 | BI16: 2 | BJ16: 人的警備
BB17: 4 | BC17: ＯＡ機器類 | BD17: 1 | BE17: パソコン、プリンタ、ソフトウェア類
BI18: 3 | BJ18: その他警備業務
BG19: 15 | BH19: 建築設備等保守点検業務 | BI19: 1 | BJ19: 浄化槽保守点検
BI20: 2 | BJ20: 消防用設備保守点検
BD21: 2 | BE21: 複写機、印刷機
BD23: 3 | BE23: その他ＯＡ機器類
BB24: 5 | BC24: 教材類 | BD24: 1 | BE24: 体育用品、器具、理科機器 | BI24: 3 | BJ24: 空調設備保守点検
A25: 免許資格関係 | BI25: 4 | BJ25: エレベーター等保守点検
A26: 第1分類番号 | D26: 第2分類番号 | G26: 免許資格の種類 | AD26: 免許資格取得者数 | AP26: 添付
AD27: 会社全体 | AJ27: 委任先のみ | BI27: 5 | BJ27: 自家用電気工作物保守点検
BD29: 2 | BE29: その他教材類 | BI29: 6 | BJ29: 防災通信施設保守点検
BB30: 6 | BC30: 消防、防災用品 | BD30: 1 | BE30: 消防自動車 | BI30: 7 | BJ30: 温泉用ポンプ保守点検
BD31: 2 | BE31: ポンプ、ホース、消火器類 | BI31: 8 | BJ31: 量水器取替
BI33: 9 | BJ33: 橋梁点検
BI34: 10 | BJ34: 橋梁設計（新設）
BD35: 3 | BE35: その他消防、防災用品 | BI35: 11 | BJ35: 橋梁設計（補修）
BB36: 7 | BC36: 機器、器具類 | BD36: 1 | BE36: 厨房機器、厨房設備 | BI36: 12 | BJ36: その他建築設備等保守点検業務
BG37: 16 | BH37: 公園等管理業務 | BI37: 1 | BJ37: 除草作業
BI39: 2 | BJ39: 樹木剪定、保護等
BD41: 2 | BE41: 家電製品
BI44: 3 | BJ44: 遊具等点検修理
BI46: 4 | BJ46: その他公園等管理業務
BG47: 17 | BH47: 害虫駆除消毒業務 | BI47: 1 | BJ47: 衛生害虫駆除
BD48: 3 | BE48: 電気、通信機器
BI49: 2 | BJ49: ガス燻蒸
...

Sheet 様4 委任状
A1: （様式４）
A2: 委任状
AI3: 申請年月日 | AQ3: =IF(変更届!AL2="","",変更届!AL2)
A4: 水俣市長 様
A6: 委任者
A7: 郵便番号 | J7: 〒 | L7: =IF(変更届!K6="","",変更届!K6) | Q7: － | S7: =IF(変更届!R6="","",変更届!R6)
A8: 住所 | J8: =IF(変更届!I7="","",変更届!I7)
A9: 商号又は名称 | J9: =IF(変更届!I8="","",変更届!I8)
A10: 代表者役職名 | J10: =IF(変更届!I9="","",変更届!I9)
A11: 代表者氏名 | J11: =IF(変更届!I10="","",変更届!I10) | AX11: 実印 | BF11: ←実印必須
A12: 電話番号 | R12: － | AB12: －
A13: ＦＡＸ番号 | R13: － | AB13: －
A15: 私は、次の者を代理人と認め、下記の権限を委任します。
A17: 受任者
A18: 郵便番号 | J18: 〒 | Q18: －
A19: 住所
A20: 商号又は名称
A21: 代表者役職名
A22: 代表者氏名 | AX22: 印 | BF22: ←印必須
A23: 電話番号 | R23: － | AB23: －
A24: ＦＡＸ番号 | R24: － | AB24: －
A26: 記
A27: １ 委任事項
A28: （１）見積及び入札に関する件
A29: （２）契約の締結に関する件
A30: （３）業務施行及び契約履行に関する件
A31: （４）契約代金及び保証金の請求並びに受領に関する件
A32: （５）業務の完成保証に関する件
A33: （６）復代理人の選任に関する件
A34: （７）その他これらに付随する一切の件
A36: ２ 委任期間
A37: 46296 | P37: から | T37: 47391 | AI37: まで | BF37: ←申請年月日がR8.10.1以降の場合、委任期間の始期を修正してください
A39: ※委任事項は、必要に応じて追加、訂正、削除してください。
A40: ※委任期間も必ず記載してください。

Sheet 様5 使用印鑑届
A1: （様式５）
A2: 使用印鑑届
C17: 上記の印鑑を、入札、見積、契約の締結並びに代金の請求及び受領のため使用したいので
C18: お届けします。
AG20: 申請年月日 | AO20: =IF(変更届!AL2="","",変更届!AL2)
C22: 水俣市長 様
C24: 郵便番号 | L24: 〒 | N24: =IF(変更届!K6="","",変更届!K6) | S24: － | U24: =IF(変更届!R6="","",変更届!R6)
C25: 住所 | L25: =IF(変更届!I7="","",変更届!I7)
C26: 商号又は名称 | L26: =IF(変更届!I8="","",変更届!I8)
C27: 代表者役職名 | L27: =IF(変更届!I9="","",変更届!I9)
C28: 代表者氏名 | L28: =IF(変更届!I10="","",変更届!I10) | AP28: 実印 | BF28: ←実印必須
C30: 〈注意〉
C31: 1 | E31: 「郵便番号、住所、商号又は名称、代表者役職名、代表者氏名」には本店、本社の情報を
E32: 記載し、本店、本社の実印を押印してください。
C33: 2 | E33: 「使用印」欄には入札書、見積書、契約書、請求書等に使用する印鑑を押印してください。
E34: 実印を「使用印」とする場合には、「使用印」欄にも実印を押印してください。
C35: 3 | E35: 「社印」欄には「使用印」とともに「社印」を使用する場合に押印してください。
E36: 「社印」を使用しない場合は空欄にしてください。
C37: 4 | E37: 「社印」のみの使用は認めません。

Sheet 様6 資本関係及び役員
A1: （様式６）
A2: 資本関係及び役員兼任調書
AD3: 申請年月日 | AL3: =IF(変更届!AL2="","",変更届!AL2)
A4: 住所 | J4: =IF(変更届!I7="","",変更届!I7)
A5: 商号又は名称 | J5: =IF(変更届!I8="","",変更届!I8) | AU5: 実印
A6: 代表者役職名 | J6: =IF(変更届!I9="","",変更届!I9) | BA6: ←電子申請の場合は実印不要。電子申請の場合、「実印」の文字は削除してください。
A7: 代表者氏名 | J7: =IF(変更届!I10="","",変更届!I10)
A9: ア．資本関係・役員兼任の状況 ※申請日現在
A10: 1 | E10: 親会社の関係にある会社の有無
A11: 2 | E11: 子会社の関係にある会社の有無
A12: 3 | E12: 他社の役員を兼任している役員の有無
A13: ※親会社：会社法第２条第４号の規定によるもの
A14: ※子会社：会社法第２条第３号の規定によるもの
A15: ※役員：代表取締役、取締役（社外取締役含む）、管財人、執行役（代表執行役含む）のいずれかが対象
A16: であり、監査役は対象ではない。
A17: 「ア．１～３」で「有」を選択した場合、下記のうち該当する項目に記入すること。
A18: イ．申請者の状況 ※申請日現在
A19: 更正会社・再生手続中の会社について
A21: ウ．親会社の状況 ※申請日現在
A22: 商号又は名称
A23: 本店住所
A24: 電話番号 | BA24: ←行が不足する場合は、一番左の「＋」をクリックする等して、適宜追加してください
A25: 商号又は名称
A26: 本店住所
A27: 電話番号
A29: エ．子会社の状況 ※申請日現在
A30: 商号又は名称
A31: 本店住所
A32: 電話番号
A33: 商号又は名称
A34: 本店住所
A35: 電話番号
A36: 商号又は名称
A37: 本店住所
A38: 電話番号 | BA38: ←行が不足する場合は、一番左の「＋」をクリックする等して、適宜追加してください
A39: 商号又は名称
A40: 本店住所
A41: 電話番号
A42: 商号又は名称
A43: 本店住所
...

Sheet 様7 事務所状況調書
A1: （様式７）
A2: 事務所状況調書
A3: （物品の製造・修繕・購入、業務委託等）
AD4: 申請年月日 | AL4: =IF(変更届!AL2="","",変更届!AL2)
A5: 住所 | J5: =IF(変更届!I7="","",変更届!I7)
A6: 商号又は名称 | J6: =IF(変更届!I8="","",変更届!I8) | AU6: 実印
A7: 代表者役職名 | J7: =IF(変更届!I9="","",変更届!I9) | BA7: ←電子申請の場合は実印不要。電子申請の場合、「実印」の文字は削除してください。
A8: 代表者氏名 | J8: =IF(変更届!I10="","",変更届!I10)
A10: 水俣市に設置する事務所等の状況については下記のとおりです。
A11: 記
A12: １．水俣市に設置する事務所等の名称及び所在地
C13: 事務所等名称：
C14: 所在地：
A16: ２．建物形態及び駐車設備等 ※該当する項目の（ ）にレ点を記入してください。
C17: 建物形態 | N17: ( | R17: ) | S17: 独立した事務所
N18: ( | R18: ) | S18: 他の事務所・事業所と併設
N19: ( | R19: ) | S19: 戸建住宅・マンション等の一部屋
N20: ( | R20: ) | S20: その他（ ）
C21: 看板・表札等の有無 | N21: ( | R21: ) | T21: 有 | AB21: ( | AF21: ) | AH21: 無
C22: 駐車場の有無 | N22: ( | R22: ) | T22: 有 | AB22: ( | AF22: ) | AH22: 無
C23: 営業用車両の有無 | N23: ( | R23: ) | T23: 有 | AB23: ( | AF23: ) | AH23: 無
A25: ３．事務所案内地図（下欄に分かりやすく記載してください。）
A40: ４．事務所内部及び外観写真
A41: ●内部写真：事務所の内部が分かる写真を添付してください。（内部全体が確認できるもの。）
A60: ●外観写真：事務所の外観写真を添付してください。（看板・表札等が確認できるもの。）
A80: ５．常駐職員数及び資格等 ※該当する職種欄にレ点を記入してください。
A81: No. | D81: 氏名 | O81: 役職 | Z81: 職種 | AP81: 免許資格の種類
Z82: 事務 | AD82: 営業 | AH82: 技術 | AL82: その他

Sheet 様8 誓約書
A1: （様式８）
AD2: 申請年月日 | AL2: =IF(変更届!AL2="","",変更届!AL2)
A4: 水俣市長 様
A6: 住所 | J6: =IF(変更届!I7="","",変更届!I7)
A7: 商号又は名称 | J7: =IF(変更届!I8="","",変更届!I8) | AU7: 実印
A8: 代表者役職名 | J8: =IF(変更届!I9="","",変更届!I9) | BA8: ←実印必須
A9: 代表者氏名 | J9: =IF(変更届!I10="","",変更届!I10)
A11: 誓約書
A13: 当社は、水俣市暴力団排除条例（平成２３年条例第２３号）第２条第１号及び第２号に規定する暴力団、
A14: 暴力団員に該当せず、また、暴力団と密接な関係を有しないことを誓約します。
A15: また、貴市の求めに応じ、当方の役員の名簿等を提出すること並びにこれらの提出書類を貴市が警察に
A16: 情報提供することについて同意します。

Sheet 原本
